BEGIN:VCALENDAR
VERSION:2.0
PRODID:-// - ECPv6.14.0//NONSGML v1.0//EN
CALSCALE:GREGORIAN
METHOD:PUBLISH
X-ORIGINAL-URL:https://feuerwehr-wonsheim.de
X-WR-CALDESC:Veranstaltungen für 
REFRESH-INTERVAL;VALUE=DURATION:PT1H
X-Robots-Tag:noindex
X-PUBLISHED-TTL:PT1H
BEGIN:VTIMEZONE
TZID:Europe/Berlin
BEGIN:DAYLIGHT
TZOFFSETFROM:+0100
TZOFFSETTO:+0200
TZNAME:CEST
DTSTART:20240331T010000
END:DAYLIGHT
BEGIN:STANDARD
TZOFFSETFROM:+0200
TZOFFSETTO:+0100
TZNAME:CET
DTSTART:20241027T010000
END:STANDARD
END:VTIMEZONE
BEGIN:VEVENT
DTSTART;TZID=Europe/Berlin:20241216T190000
DTEND;TZID=Europe/Berlin:20241216T210000
DTSTAMP:20260425T130246
CREATED:20240628T200829Z
LAST-MODIFIED:20240628T200829Z
UID:1703-1734375600-1734382800@feuerwehr-wonsheim.de
SUMMARY:Übung Freiwillige Feuerwehr
DESCRIPTION:
URL:https://feuerwehr-wonsheim.de/event/uebung-freiwillige-feuerwehr-6/
CATEGORIES:Übung
END:VEVENT
END:VCALENDAR